BEGIN:VCALENDAR
VERSION:2.0
METHOD:PUBLISH
PRODID:-//Agenda.ad//NONSGML v1.0//EN
BEGIN:VEVENT
CLASS:PUBLIC
UID:faad3337b8d2fa40f495da7e64f3f248@agenda.ad
DTSTAMP:20260422T003826Z
DTSTART:20191018T220000Z
DTEND:20191018T220000Z
SUMMARY:'Les 7 cabretes i el llop' - Titelles
DESCRIPTION:Espactacles Infantils · Octubre - Desembre 2019\
 n\nMés informació\nhttps://www.agenda.ad/activitat/andorra
 -la-vella/activitats-infantils/les-7-cabretes-i-el-llop -ti
 telles \nwww.andorralavella.ad \n\nOrganitza\nComú d'
 Andorra la Vella
LOCATION:Teatre Comunal
SEQUENCE:0
TRANSP:OPAQUE
X-ALT-DESC;FMTTYPE=text/html:<!DOCTYPE HTML PUBLIC "-//W3C//DTD HTML 3.2//EN"><HTML><HEAD
 ><TITLE></TITLE></HEAD><BODY><FONT FACE="Arial" SIZE=2>Espac
 tacles Infantils &middot;&nbsp;Octubre - Desembre 2019<br/><
 br/><b>Més informació</b><br/><a href="https://www.agenda.
 ad/activitat/andorra-la-vella/activitats-infantils/les-7-cab
 retes-i-el-llop -titelles ">https://www.agenda.ad/activita
 t/andorra-la-vella/activitats-infantils/les-7-cabretes-i-el-
 llop -titelles </a><br/>www.andorralavella.ad&nbsp;<br/><b
 r/><b>Organitza</b><br/>Comú d'Andorra la Vella</FONT></BOD
 Y></HTML>
END:VEVENT
END:VCALENDAR